BEGIN:VCALENDAR
VERSION:2.0
PRODID:-//DME GT CLUB - ECPv6.15.17//NONSGML v1.0//EN
CALSCALE:GREGORIAN
METHOD:PUBLISH
X-ORIGINAL-URL:https://www.dmegtclub.com
X-WR-CALDESC:Eventos para DME GT CLUB
REFRESH-INTERVAL;VALUE=DURATION:PT1H
X-Robots-Tag:noindex
X-PUBLISHED-TTL:PT1H
BEGIN:VTIMEZONE
TZID:Europe/Madrid
BEGIN:DAYLIGHT
TZOFFSETFROM:+0100
TZOFFSETTO:+0200
TZNAME:CEST
DTSTART:20250330T010000
END:DAYLIGHT
BEGIN:STANDARD
TZOFFSETFROM:+0200
TZOFFSETTO:+0100
TZNAME:CET
DTSTART:20251026T010000
END:STANDARD
BEGIN:DAYLIGHT
TZOFFSETFROM:+0100
TZOFFSETTO:+0200
TZNAME:CEST
DTSTART:20260329T010000
END:DAYLIGHT
BEGIN:STANDARD
TZOFFSETFROM:+0200
TZOFFSETTO:+0100
TZNAME:CET
DTSTART:20261025T010000
END:STANDARD
BEGIN:DAYLIGHT
TZOFFSETFROM:+0100
TZOFFSETTO:+0200
TZNAME:CEST
DTSTART:20270328T010000
END:DAYLIGHT
BEGIN:STANDARD
TZOFFSETFROM:+0200
TZOFFSETTO:+0100
TZNAME:CET
DTSTART:20271031T010000
END:STANDARD
END:VTIMEZONE
BEGIN:VEVENT
DTSTART;TZID=Europe/Madrid:20260421T090000
DTEND;TZID=Europe/Madrid:20260421T190000
DTSTAMP:20260425T211452
CREATED:20260115T164155Z
LAST-MODIFIED:20260413T110959Z
UID:10000437-1776762000-1776798000@www.dmegtclub.com
SUMMARY:GT Session Abril 2026
DESCRIPTION:
URL:https://www.dmegtclub.com/event/gt-session-abril-2026/
LOCATION:Hotel Torre Melina\, Av. Diagonal\, 671\, Les Corts\, 08028 Barcelona\, Barcelona\, Barcelona
ATTACH;FMTTYPE=image/jpeg:https://www.dmegtclub.com/wp-content/uploads/2026/01/07.2-GT-SESSION-21-ABRIL-2026-1.jpg
END:VEVENT
BEGIN:VEVENT
DTSTART;TZID=Europe/Madrid:20260319T090000
DTEND;TZID=Europe/Madrid:20260319T190000
DTSTAMP:20260425T211452
CREATED:20260112T155328Z
LAST-MODIFIED:20260309T104829Z
UID:10000434-1773910800-1773946800@www.dmegtclub.com
SUMMARY:GT Session Marzo 2026
DESCRIPTION:¿Te interesa este evento?\n\nDéjanos tus datos y recibe toda la información exclusiva.\n \n\n	\n		\n			\nNombre*\n\n\n			 \n		\n		\n			\nApellidos*\n\n\n			 \n		\n		\n			\nCorreo electrónico*\n\n\n			 \n		\n		\n			\nNúmero de teléfono*\n\n\n			 \n		\n	\n	\n		\n			* Indica los campos obligatorios\n			 \n		\n		\n			\n				He leído y acepto la política de privacidad\n				 \n			\n			\n				\n				 \n			\n		\n		\n		\n		\n	\n×
URL:https://www.dmegtclub.com/event/gt-session-marzo-2026/
LOCATION:Hotel Torre Melina\, Av. Diagonal\, 671\, Les Corts\, 08028 Barcelona\, Barcelona\, Barcelona
ATTACH;FMTTYPE=image/jpeg:https://www.dmegtclub.com/wp-content/uploads/2026/01/06-GT-SESSION-19-MARZO-2026-1.jpg
END:VEVENT
BEGIN:VEVENT
DTSTART;TZID=Europe/Madrid:20260226T090000
DTEND;TZID=Europe/Madrid:20260226T190000
DTSTAMP:20260425T211452
CREATED:20260112T155049Z
LAST-MODIFIED:20260225T081037Z
UID:10000332-1772096400-1772132400@www.dmegtclub.com
SUMMARY:GT Session Febrero 2026
DESCRIPTION:¿Te interesa este evento?\n\nDéjanos tus datos y recibe toda la información exclusiva.\n \n\n	\n		\n			\nNombre*\n\n\n			 \n		\n		\n			\nApellidos*\n\n\n			 \n		\n		\n			\nCorreo electrónico*\n\n\n			 \n		\n		\n			\nNúmero de teléfono*\n\n\n			 \n		\n	\n	\n		\n			* Indica los campos obligatorios\n			 \n		\n		\n			\n				He leído y acepto la política de privacidad\n				 \n			\n			\n				\n				 \n			\n		\n		\n		\n		\n	\n×
URL:https://www.dmegtclub.com/event/gt-session-febrero-2026/
LOCATION:Hotel Torre Melina\, Av. Diagonal\, 671\, Les Corts\, 08028 Barcelona\, Barcelona\, Barcelona
ATTACH;FMTTYPE=image/jpeg:https://www.dmegtclub.com/wp-content/uploads/2026/01/05-GT-SESSION-26-FEBRERO-2026-1.jpg
END:VEVENT
BEGIN:VEVENT
DTSTART;TZID=Europe/Madrid:20260129T090000
DTEND;TZID=Europe/Madrid:20260129T190000
DTSTAMP:20260425T211453
CREATED:20260112T125949Z
LAST-MODIFIED:20260116T093747Z
UID:10000326-1769677200-1769713200@www.dmegtclub.com
SUMMARY:GT Session Enero 2026
DESCRIPTION:¿Te interesa este evento?\n\nDéjanos tus datos y recibe toda la información exclusiva.\n \n\n	\n		\n			\nNombre*\n\n\n			 \n		\n		\n			\nApellidos*\n\n\n			 \n		\n		\n			\nCorreo electrónico*\n\n\n			 \n		\n		\n			\nNúmero de teléfono*\n\n\n			 \n		\n	\n	\n		\n			* Indica los campos obligatorios\n			 \n		\n		\n			\n				He leído y acepto la política de privacidad\n				 \n			\n			\n				\n				 \n			\n		\n		\n		\n		\n	\n×
URL:https://www.dmegtclub.com/event/gt-session-enero-2026/
LOCATION:Hotel Torre Melina\, Av. Diagonal\, 671\, Les Corts\, 08028 Barcelona\, Barcelona\, Barcelona
ATTACH;FMTTYPE=image/jpeg:https://www.dmegtclub.com/wp-content/uploads/2026/01/02-GT-SESSION-29-ENERO-2026.jpg
END:VEVENT
END:VCALENDAR